BEGIN:VCALENDAR
VERSION:2.0
PRODID:-//Wedding Cars Cheshire - Award Winning Wedding Cars by Horgans - Horgans Cars - ECPv5.0.1//NONSGML v1.0//EN
CALSCALE:GREGORIAN
METHOD:PUBLISH
X-WR-CALNAME:Wedding Cars Cheshire - Award Winning Wedding Cars by Horgans - Horgans Cars
X-ORIGINAL-URL:https://www.horganscars.co.uk
X-WR-CALDESC:Events for Wedding Cars Cheshire - Award Winning Wedding Cars by Horgans - Horgans Cars
BEGIN:VTIMEZONE
TZID:Europe/London
BEGIN:DAYLIGHT
TZOFFSETFROM:+0000
TZOFFSETTO:+0100
TZNAME:BST
DTSTART:20190331T010000
END:DAYLIGHT
BEGIN:STANDARD
TZOFFSETFROM:+0100
TZOFFSETTO:+0000
TZNAME:GMT
DTSTART:20191027T010000
END:STANDARD
END:VTIMEZONE
BEGIN:VEVENT
DTSTART;TZID=Europe/London:20190407T110000
DTEND;TZID=Europe/London:20190407T140000
DTSTAMP:20260423T101504
CREATED:20180103T143108Z
LAST-MODIFIED:20190320T120745Z
UID:4527-1554634800-1554645600@www.horganscars.co.uk
SUMMARY:STOCK FARM Wedding/Events Barn Ashley Road\, Ashley Cheshire WA14 3QF
DESCRIPTION:Address: STOCK FARM Wedding/Events Barn Ashley Road\, Ashley Cheshire WA14 3QF \nWedding Fayre & Open Viewing Day \n11.00am-2pm on SUNDAY 7th April 2019 \nJoin us for an afternoon of wedding Inspiration and  opportunity to look at Cheshire’s newest wedding Venue      “STOCK FARM” Wedding & Events Barn \nOn the day there will be a hand picked selection of Quality stalls & exhibitors To give you Wedding Ideas and discuss your individual needs for your special day – Including  Cakes\, Wedding Dresses\, Singers\, Pianist\, DJ’s\, Venue Dressers\, Photographers\, Springbank Florists\, Videography\, Menswear\, Jewellery\, to Make Up & Hair Dressing. and of course the Multi-Award Winning Wedding Cars from Horgans (Display Outside) \n“Be very early for this one” \nShow organised by “Brides Up North” \nSet within beautiful farmland situated on the edge of Tatton Park\, Stock Farm Wedding and Events Barn offers the perfect setting for your special day. The Barn is an exclusive location with idyllic countryside views giving you and your guests complete privacy. We are proud to promote the space as either a blank canvas for you to create your own unique wedding or we can help you along with our venue stylists to create a look that suits. \nThe Barn offers great space for larger parties\, but equally suited for a more intimate affair accommodating up to 180 people for a sit down meal\, with plenty of room to party!  Stock Farm Barn includes a fabulous rustic bar\, a wooden floor and beautiful festoon lighting \n  \n  \n  \n\nTweet\n
URL:https://www.horganscars.co.uk/event/stock-farm-weddingevents-barn-ashley-road-ashley-cheshire-wa14-3qf/
CATEGORIES:Wedding Fayre,Wedding Showcase
ATTACH;FMTTYPE=image/jpeg:https://www.horganscars.co.uk/wp-content/uploads/2018/01/Stock-Farm-Event-Venue-Ashley-Knutsford-WA14-3QF.jpg
END:VEVENT
END:VCALENDAR