BEGIN:VCALENDAR
VERSION:2.0
PRODID:-//Wedding Cars Cheshire - Award Winning Wedding Cars by Horgans - Horgans Cars - ECPv5.0.1//NONSGML v1.0//EN
CALSCALE:GREGORIAN
METHOD:PUBLISH
X-WR-CALNAME:Wedding Cars Cheshire - Award Winning Wedding Cars by Horgans - Horgans Cars
X-ORIGINAL-URL:https://www.horganscars.co.uk
X-WR-CALDESC:Events for Wedding Cars Cheshire - Award Winning Wedding Cars by Horgans - Horgans Cars
BEGIN:VTIMEZONE
TZID:Europe/London
BEGIN:DAYLIGHT
TZOFFSETFROM:+0000
TZOFFSETTO:+0100
TZNAME:BST
DTSTART:20230326T010000
END:DAYLIGHT
BEGIN:STANDARD
TZOFFSETFROM:+0100
TZOFFSETTO:+0000
TZNAME:GMT
DTSTART:20231029T010000
END:STANDARD
END:VTIMEZONE
BEGIN:VEVENT
DTSTART;TZID=Europe/London:20231022T120000
DTEND;TZID=Europe/London:20231022T150000
DTSTAMP:20260420T165610
CREATED:20230212T182513Z
LAST-MODIFIED:20231004T154150Z
UID:6512-1697976000-1697986800@www.horganscars.co.uk
SUMMARY:Bowdon Rooms\, Bowdon\, Altrincham\, Cheshire\, WA14 2TQ
DESCRIPTION:\n\nThe Firs\, Bowdon\, Altrincham WA14 2TQ · 0161 926 8992\nSUNDAY 22nd OCTOBER 2023 \nWedding Showcase And Open Viewing Day \nOpening Times From 12:00-3pm \nPresent on the day their will be some quality hand picked wedding exhibitors including\, Bridal Wear\,  Menswear\,  Cakes\, Stationary\, Make-up\, Flowers\, Venue Dresser\, Toastmaster\, Photographers\,  Chocolate Fountains\,  DJ’s  String Quartet\, and of course The Multi-Award Winning Horgans Wedding Cars.      (Display Outside the Front Reception) \nOn the day The BOWDON ROOMS Professional Events team will be available to show you around this impressive wedding Venue and answer any specific Questions that you may have. \nExclusive use of this impressive Wedding Venue for your Day\nThe BOWDON ROOMS provides the perfect setting for a beautiful wedding. Our wedding suite has superb character and atmosphere\, with\, dance floor and private bar.\n\nBe Early for this One and Remember it is on a Sunday  12pm-3pm \n\nCONGRATULATIONS ON YOUR ENGAGEMENT\n\n\n\n\n\n\nMay we take this opportunity to congratulate you both on your engagement. We are delighted that you are considering This award-winning exclusive wedding venue for your very special day. Your wedding day really is one of the most important days of your life and it is a pleasure to be able to be part of this journey and deliver memories to last a lifetime For you \n\n\n\n\n\nTweet\n
URL:https://www.horganscars.co.uk/event/bowdon-rooms-bowdon-altrincham/
CATEGORIES:Wedding Fayre,Wedding Showcase
ATTACH;FMTTYPE=image/jpeg:https://www.horganscars.co.uk/wp-content/uploads/2023/02/Bowdon-Rooms-building-jp_4_196277-165903456715140.jpeg
END:VEVENT
END:VCALENDAR